BEGIN:VCALENDAR
VERSION:2.0
PRODID:-//hacksw/handcal//NONSGML v1.0//EN
CALSCALE:GREGORIAN
BEGIN:VTIMEZONE
TZID:Europe/Berlin
X-LIC-LOCATION:Europe/Berlin
BEGIN:DAYLIGHT
TZOFFSETFROM:+0100
TZOFFSETTO:+0200
TZNAME:CEST
DTSTART:19700329T020000
RRULE:FREQ=YEARLY;BYDAY=-1SU;BYMONTH=3
END:DAYLIGHT
BEGIN:STANDARD
TZOFFSETFROM:+0200
TZOFFSETTO:+0100
TZNAME:CET
DTSTART:19701025T030000
RRULE:FREQ=YEARLY;BYDAY=-1SU;BYMONTH=10
END:STANDARD
END:VTIMEZONE
BEGIN:VEVENT
DTEND;TZID=Europe/Berlin:20260825T150000
UID:69e7b042def79
DTSTAMP:20260421T191338
LOCATION:Jugendzentrum Friedberg
DESCRIPTION:Der Graffiti Workshop richtet sich vor allem an Jugendliche und soll Möglichkeiten bieten\, den kreativen Umgang mit der Sprühdose zu erlernen. Zusammen mit den Mitgliedern des Graffitivereins "Die Bunten e.V." wird sowohl auf Papier\, als auch großflächig auf Leinwänden gesprayt. \r\n\r\nAm ersten Tag wird im Jugendzentrum das Zeichnen einer Skizze geübt\, um diese dann am zweiten Tag an der legalen "Spraywand" zu verwirklichen. \r\n\r\n
URL;VALUE=URI:https://www.unser-ferienprogramm.de/friedberg/veranstaltung.php?id=101207
SUMMARY:Graffiti  Workshop
DTSTART;TZID=Europe/Berlin:20260824T100000
END:VEVENT

END:VCALENDAR
