BEGIN:VCALENDAR
VERSION:2.0
PRODID:-//hacksw/handcal//NONSGML v1.0//EN
CALSCALE:GREGORIAN
BEGIN:VTIMEZONE
TZID:Europe/Berlin
X-LIC-LOCATION:Europe/Berlin
BEGIN:DAYLIGHT
TZOFFSETFROM:+0100
TZOFFSETTO:+0200
TZNAME:CEST
DTSTART:19700329T020000
RRULE:FREQ=YEARLY;BYDAY=-1SU;BYMONTH=3
END:DAYLIGHT
BEGIN:STANDARD
TZOFFSETFROM:+0200
TZOFFSETTO:+0100
TZNAME:CET
DTSTART:19701025T030000
RRULE:FREQ=YEARLY;BYDAY=-1SU;BYMONTH=10
END:STANDARD
END:VTIMEZONE
BEGIN:VEVENT
DTEND;TZID=Europe/Berlin:20260811T130000
UID:69e7b036b00d6
DTSTAMP:20260421T191326
LOCATION:Feuerwehrhaus Volksfestplatz\, Aichacher Straße
DESCRIPTION:Die Feuerwehr hat ein buntgemischtes Programm für euch zusammengestellt u.a. mit Führung und Löschübungen. Lasst euch überraschen!\r\nBitte beachten: Die Teilnahme ist nur einmal möglich. Wer bereits einmal bei dem Angebot dabei war\, bitte nicht mehr anmelden. 
URL;VALUE=URI:https://www.unser-ferienprogramm.de/friedberg/veranstaltung.php?id=100717
SUMMARY:Freiwillige Feuerwehr Friedberg - Komm mach mit!
DTSTART;TZID=Europe/Berlin:20260811T090000
END:VEVENT

END:VCALENDAR
