BEGIN:VCALENDAR
VERSION:2.0
PRODID:-//hacksw/handcal//NONSGML v1.0//EN
CALSCALE:GREGORIAN
BEGIN:VTIMEZONE
TZID:Europe/Berlin
X-LIC-LOCATION:Europe/Berlin
BEGIN:DAYLIGHT
TZOFFSETFROM:+0100
TZOFFSETTO:+0200
TZNAME:CEST
DTSTART:19700329T020000
RRULE:FREQ=YEARLY;BYDAY=-1SU;BYMONTH=3
END:DAYLIGHT
BEGIN:STANDARD
TZOFFSETFROM:+0200
TZOFFSETTO:+0100
TZNAME:CET
DTSTART:19701025T030000
RRULE:FREQ=YEARLY;BYDAY=-1SU;BYMONTH=10
END:STANDARD
END:VTIMEZONE
BEGIN:VEVENT
DTEND;TZID=Europe/Berlin:20260807T170000
UID:69e7f44b6a831
DTSTAMP:20260422T000355
LOCATION:Reiserdorf bei Neustadt a. d. Waldnaab
DESCRIPTION:Das Auenland ist ein ruhiges Fleckchen Land. Es gibt keine Überraschungen und das Leben ist gelassen. Doch bei dem Bau einer Hobbithöhle wird ein seltsamer Gegenstand gefunden der jeden in seinen Bann zieht. \r\nFreut euch auf eine Woche voller spannender Spiele in denen wir die Geheimnisse von Mittelerde entdecken und die Welt vor bösen Mächten beschützen.\r\nPackt eure Wandertaschen - die Welt rückt nah!
URL;VALUE=URI:https://www.unser-ferienprogramm.de/amberg/veranstaltung.php?id=301895
SUMMARY:Jungszeltlager - Herr der Ringe
DTSTART;TZID=Europe/Berlin:20260801T134500
END:VEVENT

END:VCALENDAR
