BEGIN:VCALENDAR
VERSION:2.0
PRODID:-//hacksw/handcal//NONSGML v1.0//EN
CALSCALE:GREGORIAN
BEGIN:VTIMEZONE
TZID:Europe/Berlin
X-LIC-LOCATION:Europe/Berlin
BEGIN:DAYLIGHT
TZOFFSETFROM:+0100
TZOFFSETTO:+0200
TZNAME:CEST
DTSTART:19700329T020000
RRULE:FREQ=YEARLY;BYDAY=-1SU;BYMONTH=3
END:DAYLIGHT
BEGIN:STANDARD
TZOFFSETFROM:+0200
TZOFFSETTO:+0100
TZNAME:CET
DTSTART:19701025T030000
RRULE:FREQ=YEARLY;BYDAY=-1SU;BYMONTH=10
END:STANDARD
END:VTIMEZONE
BEGIN:VEVENT
DTEND;TZID=Europe/Berlin:20260814T170000
UID:69e7fa5db2fc4
DTSTAMP:20260422T002949
LOCATION:Reiserdorf bei Neustadt a. d. Waldnaab
DESCRIPTION:Liebe Eltern\, liebe Mädels\,\r\nin diesem Jahr begeben wir uns gemeinsam auf eine\r\ngroße Weltreise. Mit neugierigen Entdeckerinnen\,\r\nmutigen Abenteurerinnen und jeder Menge Reiselust\r\ngeht es für uns einmal rund um den Globus. Gemeinsam\r\ntauchen wir ein in ferne Länder\, spannende Kulturen und unvergessliche\r\nAbenteuer – voller Spiel\, Spaß und Neugier!
URL;VALUE=URI:https://www.unser-ferienprogramm.de/amberg/veranstaltung.php?id=301880
SUMMARY:Mädchenzeltlager - Weltreise
DTSTART;TZID=Europe/Berlin:20260808T134500
END:VEVENT

END:VCALENDAR
