BEGIN:VCALENDAR
VERSION:2.0
PRODID:-//hacksw/handcal//NONSGML v1.0//EN
CALSCALE:GREGORIAN
BEGIN:VTIMEZONE
TZID:Europe/Berlin
X-LIC-LOCATION:Europe/Berlin
BEGIN:DAYLIGHT
TZOFFSETFROM:+0100
TZOFFSETTO:+0200
TZNAME:CEST
DTSTART:19700329T020000
RRULE:FREQ=YEARLY;BYDAY=-1SU;BYMONTH=3
END:DAYLIGHT
BEGIN:STANDARD
TZOFFSETFROM:+0200
TZOFFSETTO:+0100
TZNAME:CET
DTSTART:19701025T030000
RRULE:FREQ=YEARLY;BYDAY=-1SU;BYMONTH=10
END:STANDARD
END:VTIMEZONE
BEGIN:VEVENT
DTEND;TZID=Europe/Berlin:20260821T160000
UID:69e7f44b2ed27
DTSTAMP:20260422T000355
LOCATION:Hockermühlbad Amberg
DESCRIPTION:Nachdem die Teilnehmenden schon viel erlebt & kennengelernt haben (Harry Potter\, Dschungelbuch\, Weltreise\, Ritter)\, gibt es auch heuer wieder eine Kinderbetreuung im Hockermühlbad Amberg. Wie gewohnt in der 3. Woche startet der Tag um 8:00 Uhr mit dem Ankommen\, bis ca. 12:30 findet das Vormittagsprogramm statt\, nach einem gesunden Mittagessen startet der Nachmittag mit verschiedensten Programmpunkten. Die Kinder werden ab 16:00 wieder abgeholt (bis spätestens 16:30 Uhr). \r\nGeänderte Bring- & Holzeiten können vereinbart werden. Ermäßigungen möglich (Geschwisterkinder\, Mitglieder usw.)\r\nGenaues Programm und Anmeldungen bitte beim CVJM Amberg e. V. erfragen
URL;VALUE=URI:https://www.unser-ferienprogramm.de/amberg/veranstaltung.php?id=301775
SUMMARY:Feriencamp im Hockermühlbad
DTSTART;TZID=Europe/Berlin:20260817T080000
END:VEVENT

END:VCALENDAR
