BEGIN:VCALENDAR
VERSION:2.0
PRODID:-//hacksw/handcal//NONSGML v1.0//EN
CALSCALE:GREGORIAN
BEGIN:VTIMEZONE
TZID:Europe/Berlin
X-LIC-LOCATION:Europe/Berlin
BEGIN:DAYLIGHT
TZOFFSETFROM:+0100
TZOFFSETTO:+0200
TZNAME:CEST
DTSTART:19700329T020000
RRULE:FREQ=YEARLY;BYDAY=-1SU;BYMONTH=3
END:DAYLIGHT
BEGIN:STANDARD
TZOFFSETFROM:+0200
TZOFFSETTO:+0100
TZNAME:CET
DTSTART:19701025T030000
RRULE:FREQ=YEARLY;BYDAY=-1SU;BYMONTH=10
END:STANDARD
END:VTIMEZONE
BEGIN:VEVENT
DTEND;TZID=Europe/Berlin:20260827T160000
UID:69e7fa1fe9a03
DTSTAMP:20260422T002847
LOCATION:Jugendfreizeitstätte Weissenberg\, Weißenberg 44\, 92265 Edelsfeld 
DESCRIPTION:Das Kinderzeltlager in Weißenberg ist der Kracher der EJ-SuRo. Mit bis zu 50 Kindern und einem tollem Mitarbeitendenteam lassen wir der Fantasie freien Lauf. Egal ob Zirkus\, Mittelalter\, Gallier oder Wilder Westen\, wir starten voll durch!\r\nDie Jugendfreizeitstätte Weißenberg nördlich von Sulzbach-Rosenberg ist – u.a. mit ihrem Pool - für unser Zeltlager ideal: Groß und mit vielen Möglichkeiten – auch bei schlechtem Wetter. 5 Tage voll abwechslungsreichem Programm\, spannenden Geschichten und Lagerromantik warten auf dich!\r\n\r\nFür Kinder von 8-12 Jahren (7 und 13 Jährige\, nur mit vorheriger Absprache möglich)\r\nLeitung: Sophia Lulla und Team\r\nPreis: 80.- €\, Anmeldung bitte über unsere Webseite: https://www.ej-suro.de/\r\n\r\nAchtung: Wir starten am Sontag und enden am Donnerstag um 16 Uhr. 
URL;VALUE=URI:https://www.unser-ferienprogramm.de/amberg/veranstaltung.php?id=299704
SUMMARY:Kinderfreizeit Weissenberg
DTSTART;TZID=Europe/Berlin:20260823T100000
END:VEVENT

END:VCALENDAR
