BEGIN:VCALENDAR
VERSION:2.0
PRODID:-//hacksw/handcal//NONSGML v1.0//EN
CALSCALE:GREGORIAN
BEGIN:VTIMEZONE
TZID:Europe/Berlin
X-LIC-LOCATION:Europe/Berlin
BEGIN:DAYLIGHT
TZOFFSETFROM:+0100
TZOFFSETTO:+0200
TZNAME:CEST
DTSTART:19700329T020000
RRULE:FREQ=YEARLY;BYDAY=-1SU;BYMONTH=3
END:DAYLIGHT
BEGIN:STANDARD
TZOFFSETFROM:+0200
TZOFFSETTO:+0100
TZNAME:CET
DTSTART:19701025T030000
RRULE:FREQ=YEARLY;BYDAY=-1SU;BYMONTH=10
END:STANDARD
END:VTIMEZONE
BEGIN:VEVENT
DTEND;TZID=Europe/Berlin:20260910T160000
UID:69e7f79980157
DTSTAMP:20260422T001801
LOCATION:ADFC Radlstodl\, Weideweg 5\, 92224 Amberg-Ammersricht
DESCRIPTION:Am Kinder-Fahrrad-Spasstag durft ihr mit eigenen oder von uns geliehenen Fahrrädern eure Geschicklichkeit auf unserem Fahrradparcour ausgiebig testen. Danach könnt ihr noch einige Runden mit unseren Spassfahrrädern drehen.\r\nZum Abschluss gibt es noch eine kleine Brotzeit mit Getränk.\r\nBetreut werdet ihr von erfahrenen Tourguides des ADFC.\r\n
URL;VALUE=URI:https://www.unser-ferienprogramm.de/amberg/veranstaltung.php?id=195410
SUMMARY:Spass mit dem Rad
DTSTART;TZID=Europe/Berlin:20260910T140000
END:VEVENT

END:VCALENDAR
