BEGIN:VCALENDAR
VERSION:2.0
PRODID:-//hacksw/handcal//NONSGML v1.0//EN
CALSCALE:GREGORIAN
BEGIN:VTIMEZONE
TZID:Europe/Berlin
X-LIC-LOCATION:Europe/Berlin
BEGIN:DAYLIGHT
TZOFFSETFROM:+0100
TZOFFSETTO:+0200
TZNAME:CEST
DTSTART:19700329T020000
RRULE:FREQ=YEARLY;BYDAY=-1SU;BYMONTH=3
END:DAYLIGHT
BEGIN:STANDARD
TZOFFSETFROM:+0200
TZOFFSETTO:+0100
TZNAME:CET
DTSTART:19701025T030000
RRULE:FREQ=YEARLY;BYDAY=-1SU;BYMONTH=10
END:STANDARD
END:VTIMEZONE
BEGIN:VEVENT
DTEND;TZID=Europe/Berlin:20260911T143000
UID:69e7f430eb14e
DTSTAMP:20260422T000328
LOCATION:Jugendzentrum Klärwerk
DESCRIPTION:Die Überraschungswoche ist zurück!\r\n\r\nEine Woche lang erleben wir von Früh bis Nachmittag spannende Tage mit verschiedensten Aktivitäten bei denen wir im Jugendzentrum und vielleicht sogar an anderen Orten Spielen\, Entdecken und Neues ausprobieren. An einem Tag ist sogar ein Ausflug geplant!\r\n\r\nEin Mittagessen ist im Preis enthalten außer bei Ausflügen (bitte Brotzeit mitgeben). Wasser und Tee gibt es auch kostenlos.\r\n\r\nBitte geben Sie Ihrem Kind jeden Tag eine Trinkflasche zum Auffüllen\, dem Wetter angepasste Kleidung (auch für Draußen) und vorsichtshalber Wechselkleidung mit.\r\n\r\nSie können Ihr Kind an den einzelnen Tagen zwischen 07:30 bis 08:00 Uhr ins Jugendzentrum bringen. Die Abholzeit ist von 14:00 bis 14:30 Uhr.\r\n\r\n
URL;VALUE=URI:https://www.unser-ferienprogramm.de/amberg/veranstaltung.php?id=154845
SUMMARY:Überraschungswoche Sommerferien
DTSTART;TZID=Europe/Berlin:20260907T073000
END:VEVENT

END:VCALENDAR
