BEGIN:VCALENDAR
VERSION:2.0
PRODID:-//hacksw/handcal//NONSGML v1.0//EN
CALSCALE:GREGORIAN
BEGIN:VTIMEZONE
TZID:Europe/Berlin
X-LIC-LOCATION:Europe/Berlin
BEGIN:DAYLIGHT
TZOFFSETFROM:+0100
TZOFFSETTO:+0200
TZNAME:CEST
DTSTART:19700329T020000
RRULE:FREQ=YEARLY;BYDAY=-1SU;BYMONTH=3
END:DAYLIGHT
BEGIN:STANDARD
TZOFFSETFROM:+0200
TZOFFSETTO:+0100
TZNAME:CET
DTSTART:19701025T030000
RRULE:FREQ=YEARLY;BYDAY=-1SU;BYMONTH=10
END:STANDARD
END:VTIMEZONE
BEGIN:VEVENT
DTEND;TZID=Europe/Berlin:20260726T180000
UID:69e7fa1f9d3cc
DTSTAMP:20260422T002847
LOCATION:LGS-Gelände beim Jugendzentrum Klärwerk
DESCRIPTION:Das Amberger Kinderfest findet am 27.07.2025 wieder auf dem LGS-Gelände statt!\r\n\r\nVerschiedenste Einrichtungen und Vereine bieten ein buntes und kostenloses Programm\, um Kindern und Jugendlichen einen schönen Tag zu ermöglichen.\r\n\r\nWeitere Informationen gibt es unter: https://jugendarbeit.amberg.de/jugendarbeit/kinderfest\r\n
URL;VALUE=URI:https://www.unser-ferienprogramm.de/amberg/veranstaltung.php?id=154844
SUMMARY:Amberger Kinderfest
DTSTART;TZID=Europe/Berlin:20260726T110000
END:VEVENT

END:VCALENDAR
