BEGIN:VCALENDAR
VERSION:2.0
PRODID:-//hacksw/handcal//NONSGML v1.0//EN
CALSCALE:GREGORIAN
BEGIN:VTIMEZONE
TZID:Europe/Berlin
X-LIC-LOCATION:Europe/Berlin
BEGIN:DAYLIGHT
TZOFFSETFROM:+0100
TZOFFSETTO:+0200
TZNAME:CEST
DTSTART:19700329T020000
RRULE:FREQ=YEARLY;BYDAY=-1SU;BYMONTH=3
END:DAYLIGHT
BEGIN:STANDARD
TZOFFSETFROM:+0200
TZOFFSETTO:+0100
TZNAME:CET
DTSTART:19701025T030000
RRULE:FREQ=YEARLY;BYDAY=-1SU;BYMONTH=10
END:STANDARD
END:VTIMEZONE
BEGIN:VEVENT
DTEND;TZID=Europe/Berlin:20260806T110000
UID:69e7fb94514a8
DTSTAMP:20260422T003500
LOCATION:Amberg
DESCRIPTION:Du wolltest schon immer mal im Juz übernachten? Das ist deine Chance! Nimm eine Freundin oder einen Freund mit und zusammen erleben wir eine spannende Nacht im Juz.\r\nNeben Essen und Spielen erleben wir ein paar typische "Übernachtungs-Aktivitäten".\r\n\r\nDie Bringzeit ist zwischen 18:00 und 18:15 Uhr. Abgeholt wirst du am nächsten Tag um 11:00 Uhr.\r\n\r\nAbendessen und Frühstück\, Getränke und Snacks inklusive. 
URL;VALUE=URI:https://www.unser-ferienprogramm.de/amberg/veranstaltung.php?id=142665
SUMMARY:Übernachten im Juz
DTSTART;TZID=Europe/Berlin:20260805T180000
END:VEVENT

END:VCALENDAR
