BEGIN:VCALENDAR
VERSION:2.0
PRODID:-//hacksw/handcal//NONSGML v1.0//EN
CALSCALE:GREGORIAN
BEGIN:VTIMEZONE
TZID:Europe/Berlin
X-LIC-LOCATION:Europe/Berlin
BEGIN:DAYLIGHT
TZOFFSETFROM:+0100
TZOFFSETTO:+0200
TZNAME:CEST
DTSTART:19700329T020000
RRULE:FREQ=YEARLY;BYDAY=-1SU;BYMONTH=3
END:DAYLIGHT
BEGIN:STANDARD
TZOFFSETFROM:+0200
TZOFFSETTO:+0100
TZNAME:CET
DTSTART:19701025T030000
RRULE:FREQ=YEARLY;BYDAY=-1SU;BYMONTH=10
END:STANDARD
END:VTIMEZONE
BEGIN:VEVENT
DTEND;TZID=Europe/Berlin:20260821T150000
UID:69e7fb93e427b
DTSTAMP:20260422T003459
LOCATION:Jugendbildungsstätte Waldmünchen
DESCRIPTION:Ihr wollt tanzen lernen wie die Stars? Dann seid ihr bei der Dance Academy genau richtig! In dieser Woche werdet ihr zusammen mit anderen Kindern fetzige Choreografien in den derzeit angesagtesten Stilrichtungen Jazz und Hip-Hop einstudieren. Los geht es mit Tanztechniken wie Pick Ups\, Tendues und Pliés sowie einfachen Grundschritten\, Drehungen und Sprüngen.\r\nUnser großes Ziel ist eine gemeinsam einstudierte Choreografie\, mit der ihr bei der großen Abschlusspräsentation eure Eltern\, Geschwister und Freunde beeindrucken könnt. Hier kann man sehen\, dass tanzen sowohl was für Jungs wie auch für Mädels ist. Damit die Anstrengung nicht zu viel wird\, machen wir einen Ausflug\, viele gemeinsame Spiele und wir werden abends auch mal grillen.\r\n\r\nDie Kommunale Jugendarbeit pflegt eine Kooperation mit der Jugendbildungsstätte Waldmünchen. So wird eine Teilnahme von der Kommunalen Jugendarbeit bezuschusst\, wodurch die Anmeldegebühr um 50\,00 Euro gemildert wurde.
URL;VALUE=URI:https://www.unser-ferienprogramm.de/amberg/veranstaltung.php?id=118304
SUMMARY:Dance Academy
DTSTART;TZID=Europe/Berlin:20260816T010000
END:VEVENT

END:VCALENDAR
