BEGIN:VCALENDAR
VERSION:2.0
PRODID:-//hacksw/handcal//NONSGML v1.0//EN
CALSCALE:GREGORIAN
BEGIN:VTIMEZONE
TZID:Europe/Berlin
X-LIC-LOCATION:Europe/Berlin
BEGIN:DAYLIGHT
TZOFFSETFROM:+0100
TZOFFSETTO:+0200
TZNAME:CEST
DTSTART:19700329T020000
RRULE:FREQ=YEARLY;BYDAY=-1SU;BYMONTH=3
END:DAYLIGHT
BEGIN:STANDARD
TZOFFSETFROM:+0200
TZOFFSETTO:+0100
TZNAME:CET
DTSTART:19701025T030000
RRULE:FREQ=YEARLY;BYDAY=-1SU;BYMONTH=10
END:STANDARD
END:VTIMEZONE
BEGIN:VEVENT
DTEND;TZID=Europe/Berlin:20260903T230000
UID:69e7f76f9f54c
DTSTAMP:20260422T001719
LOCATION:Europapark - Rust
DESCRIPTION:Zusammen geht´s mit dem Bus in den größten Freizeitpark Deutschlands - den Europapark in Rust! Nimm deine Freunde mit oder verbringe zusammen mit uns (Juz\, Koja und SJR) zwei unvergessliche Tage!\r\n\r\nWir werden am 02.09.2026 in der Früh los fahren um so zeitig wie möglich vor Ort zu sein. Wir verbringen einen kompletten Tag im Park und übernachten anschließend im Europapark Camp Resort: https://www.europapark.de/de/uebernachten/camp-resort\r\n\r\nAm Tag darauf werden wir noch einmal einen ganzen Tag im Park verbringen. Abends geht es dann wieder zurück nach Amberg\, wo wir vermutlich gegen 23:00 Uhr am Dultplatz ankommen werden.\r\n\r\nTreffpunkt ist am 02.09. um 4:45 Uhr am Dultplatz (gleich gegenüber vom Jugendzentrum)\, wir fahren dann gemeinsam um 5:00 Uhr los. \r\n\r\nKinder und Jugendliche ab 14 Jahren dürfen in Kleingruppen den Park erkunden. 12- und 13-Jährige haben auch die Möglichkeit in Kleingruppen durch den Park zu schlendern. Dies kann von den Erziehungsberechtigten bei der Anmeldung angegeben werden. Es werden ausreichend hauptberufliche/pädagogische Personen mitfahren\, um den Kontakt zu den Kleingruppen zu halten und die Aufsichtspflicht zu erfüllen.\r\n\r\nWir möchten darauf hinweisen\, dass einige Attraktionen aufgrund von Alter oder Körpergröße nicht für alle zugänglich sind. Schau dir hierzu die Infos auf der Website des Parks an unter www.europapark.de\r\n\r\nBitte achten Sie darauf\, dass zwar das Frühstück am zweiten Tag inklusive ist\, aber für sonstige Verpflegung an beiden Tagen selbst gesorgt werden muss.\r\n\r\nBitte dem Wetter angepasste Kleidung mitnehmen.\r\n\r\nWICHTIG: \r\nEs wird dringend empfohlen eine Reiserücktritts-Versicherung für die Fahrt nach Rust abzuschließen\, da bei einer Absage nach dem Anmeldeschluss am 04.08.26 nicht die vollen Kosten zurückerstattet werden können.\r\n\r\n\r\n
URL;VALUE=URI:https://www.unser-ferienprogramm.de/amberg/veranstaltung.php?id=100073
SUMMARY:Fahrt in den Europapark nach Rust\, Anmeldung für Jungs
DTSTART;TZID=Europe/Berlin:20260902T050000
END:VEVENT

END:VCALENDAR
